BEGIN:VCALENDAR
VERSION:2.0
PRODID:icalendar-ruby
CALSCALE:GREGORIAN
METHOD:PUBLISH
BEGIN:VEVENT
DTSTAMP:20260424T144208Z
UID:9-2640683@whiteoakhillchurch.com
DTSTART:20261029T020000Z
DTEND:20261029T030000Z
CLASS:PUBLIC
CREATED:20260424T065616
DESCRIPTION:Wednesday Night Bible Study Online
LAST-MODIFIED:20260424T065616
LOCATION:
SUMMARY:Wednesday Night Adult Bible Study
URL;VALUE=URI:https://www.whiteoakhillchurch.com/events/wednesday-night-adu
 lt-bible-study/2026-10-28
ATTACH;FILENAME=4484469B-6B9E-43CF-A2EB-A22392C8C4DA_4_5005_c.jpeg;FMTTYPE=
 image/jpeg:https://dq5pwpg1q8ru0.cloudfront.net/2023/01/23/15/27/39/70a500
 f3-61f1-4616-a7db-898295ce3dbf/4484469B-6B9E-43CF-A2EB-A22392C8C4DA_4_5005
 _c.jpeg
END:VEVENT
END:VCALENDAR
